BEGIN:VCALENDAR
VERSION:2.0
PRODID:-//Biblioteka Publiczna Gminy Leszno - ECPv4.9.10//NONSGML v1.0//EN
CALSCALE:GREGORIAN
METHOD:PUBLISH
X-WR-CALNAME:Biblioteka Publiczna Gminy Leszno
X-ORIGINAL-URL:https://biblioteka.gminaleszno.pl
X-WR-CALDESC:Events for Biblioteka Publiczna Gminy Leszno
BEGIN:VTIMEZONE
TZID:Europe/Warsaw
BEGIN:DAYLIGHT
TZOFFSETFROM:+0100
TZOFFSETTO:+0200
TZNAME:CEST
DTSTART:20250330T010000
END:DAYLIGHT
BEGIN:STANDARD
TZOFFSETFROM:+0200
TZOFFSETTO:+0100
TZNAME:CET
DTSTART:20251026T010000
END:STANDARD
END:VTIMEZONE
BEGIN:VEVENT
DTSTART;TZID=Europe/Warsaw:20250614T093000
DTEND;TZID=Europe/Warsaw:20250614T140000
DTSTAMP:20260425T235834
CREATED:20250605T073113Z
LAST-MODIFIED:20250605T073311Z
UID:3370-1749893400-1749909600@biblioteka.gminaleszno.pl
SUMMARY:Odjazdowy Bibliotekarz 2025 - 10. Edycja
DESCRIPTION:Serdecznie zapraszamy na 10.X już edycję rajdu dla miłośników książek i czterech kółek. \nRegulamin Rajdu Odjazdowy Bibliotekarz 2025 \nTrasa Odjazdowego Bibliotekarza 2025 \nKARTA ZGŁOSZENIA.docx Odjazdowy Bibliotekarz 2024 \n \n  \n
URL:https://biblioteka.gminaleszno.pl/wydarzenia/odjazdowy-bibliotekarz-2025-10-edycja/
LOCATION:leszno\, ul. Polna 22 A\, Leszno\, 05-084
CATEGORIES:Dorośli,Dzieci,Młodzież
END:VEVENT
END:VCALENDAR