BEGIN:VCALENDAR
VERSION:2.0
PRODID:-//Biblioteka Publiczna Gminy Leszno - ECPv4.9.10//NONSGML v1.0//EN
CALSCALE:GREGORIAN
METHOD:PUBLISH
X-WR-CALNAME:Biblioteka Publiczna Gminy Leszno
X-ORIGINAL-URL:https://biblioteka.gminaleszno.pl
X-WR-CALDESC:Events for Biblioteka Publiczna Gminy Leszno
BEGIN:VTIMEZONE
TZID:Europe/Warsaw
BEGIN:DAYLIGHT
TZOFFSETFROM:+0100
TZOFFSETTO:+0200
TZNAME:CEST
DTSTART:20250330T010000
END:DAYLIGHT
BEGIN:STANDARD
TZOFFSETFROM:+0200
TZOFFSETTO:+0100
TZNAME:CET
DTSTART:20251026T010000
END:STANDARD
END:VTIMEZONE
BEGIN:VEVENT
DTSTART;TZID=Europe/Warsaw:20251017T170000
DTEND;TZID=Europe/Warsaw:20251017T200000
DTSTAMP:20260425T174443
CREATED:20251013T170327Z
LAST-MODIFIED:20251013T170327Z
UID:3421-1760720400-1760731200@biblioteka.gminaleszno.pl
SUMMARY:Noc Bibliotek w Lesznie
DESCRIPTION: \n
URL:https://biblioteka.gminaleszno.pl/wydarzenia/noc-bibliotek-w-lesznie/
LOCATION:leszno\, ul. Polna 22 A\, Leszno\, 05-084
CATEGORIES:Dzieci,Młodzież
END:VEVENT
END:VCALENDAR